BEGIN:VCALENDAR
VERSION:2.0
PRODID:-//Arcada Theatre - ECPv6.15.20//NONSGML v1.0//EN
CALSCALE:GREGORIAN
METHOD:PUBLISH
X-WR-CALNAME:Arcada Theatre
X-ORIGINAL-URL:https://www.arcadalive.com
X-WR-CALDESC:Events for Arcada Theatre
REFRESH-INTERVAL;VALUE=DURATION:PT1H
X-Robots-Tag:noindex
X-PUBLISHED-TTL:PT1H
BEGIN:VTIMEZONE
TZID:America/Chicago
BEGIN:DAYLIGHT
TZOFFSETFROM:-0600
TZOFFSETTO:-0500
TZNAME:CDT
DTSTART:20250309T080000
END:DAYLIGHT
BEGIN:STANDARD
TZOFFSETFROM:-0500
TZOFFSETTO:-0600
TZNAME:CST
DTSTART:20251102T070000
END:STANDARD
BEGIN:DAYLIGHT
TZOFFSETFROM:-0600
TZOFFSETTO:-0500
TZNAME:CDT
DTSTART:20260308T080000
END:DAYLIGHT
BEGIN:STANDARD
TZOFFSETFROM:-0500
TZOFFSETTO:-0600
TZNAME:CST
DTSTART:20261101T070000
END:STANDARD
BEGIN:DAYLIGHT
TZOFFSETFROM:-0600
TZOFFSETTO:-0500
TZNAME:CDT
DTSTART:20270314T080000
END:DAYLIGHT
BEGIN:STANDARD
TZOFFSETFROM:-0500
TZOFFSETTO:-0600
TZNAME:CST
DTSTART:20271107T070000
END:STANDARD
END:VTIMEZONE
BEGIN:VEVENT
DTSTART;TZID=America/Chicago:20260529T200000
DTEND;TZID=America/Chicago:20260529T200000
DTSTAMP:20260424T042135
CREATED:20260114T225133Z
LAST-MODIFIED:20260114T225133Z
UID:10002588-1780084800-1780084800@www.arcadalive.com
SUMMARY:TUSK: THE CLASSIC FLEETWOOD MAC TRIBUTE
DESCRIPTION:Playing the hits and deep cuts spanning the careers of Rock N Roll Hall of Fame inductees Fleetwood Mac\, Tusk has been crisscrossing the country since 2008 as The Classic Fleetwood Mac Tribute. Five pro musicians turned into masters of their trade through decades of individual music study\, live performance\, creative risk\, and devotion to the art. TUSK features note-perfect renditions of both the solo and full band songs\, with each member specializing in one of the core lineup of Fleetwood Mac (Lindsey Buckingham\, Stevie Nicks\, Christine McVie\, John McVie\, and Mick Fleetwood). They possess an electric stage presence that can only come from well over a decade touring together. Truly the best at what they do\, TUSK is unmatched in their tribute to one of the greatest bands of all time. \nBuy Now
URL:https://www.arcadalive.com/event/tusk-the-classic-fleetwood-mac-tribute/
LOCATION:Arcada Theatre\, 105 E Main St\, St. Charles\, IL\, 60174\, United States
CATEGORIES:Oldies/Classics,Pop,Rock Music,Rock Music>Classic Rock
ATTACH;FMTTYPE=image/png:https://www.arcadalive.com/wp-content/uploads/sites/6/TUSK-web-1.png
END:VEVENT
BEGIN:VEVENT
DTSTART;TZID=America/Chicago:20260612T200000
DTEND;TZID=America/Chicago:20260612T200000
DTSTAMP:20260424T042135
CREATED:20251218T151728Z
LAST-MODIFIED:20251219T125052Z
UID:10002540-1781294400-1781294400@www.arcadalive.com
SUMMARY:HOTEL CALIFORNIA – A SALUTE TO THE EAGLES
DESCRIPTION:A spirited blend of originality and the pursuit of excellence have taken Hotel California “A Salute to the Eagles” to a level of recognition normally reserved for Gold and Platinum recording artists. By respectfully and accurately reproducing the Grammy award winning sounds of our generation’s Greatest American Songbook\, this legendary Southern California group\, has touched the hearts of fans all over the world\, The most successful and longest running show of it’s kind\, Hotel California! “A Salute to the Eagles”\, is the ONLY show to have ever received an “Official Authorization” for a live performance. So join us on a trip down a dark desert highway…Feel the cool wind in your hair …It’s time to check into …The Hotel California! \nBuy Now
URL:https://www.arcadalive.com/event/hotel-california-a-salute-to-the-eagles-2/
LOCATION:Arcada Theatre\, 105 E Main St\, St. Charles\, IL\, 60174\, United States
CATEGORIES:Classic Rock,Rock Music,Rock Music>Classic Rock
ATTACH;FMTTYPE=image/png:https://www.arcadalive.com/wp-content/uploads/sites/6/hotel-ca-web-1-pquoyi.tmp_.png
END:VEVENT
BEGIN:VEVENT
DTSTART;TZID=America/Chicago:20260808T200000
DTEND;TZID=America/Chicago:20260808T200000
DTSTAMP:20260424T042135
CREATED:20260114T225713Z
LAST-MODIFIED:20260114T225713Z
UID:10002589-1786219200-1786219200@www.arcadalive.com
SUMMARY:BAD CO LEGACY
DESCRIPTION:Former Bad Company Singer\, Robert Hart\, and guitarist Dave “Bucket” Colwell\, take you down an amazing Rock & Roll roller coaster ride with songs from the legendary band. You can expect classic Bad Co songs played the way they are supposed to be played! For seven years Robert Hart was the lead singer of Bad Co in its classic rock era. He has also played many years with The Jones Gang with Kenny Jones of The Faces. and currently with Manfred Mann’s Earthband. Dave ‘Bucket’ Colwell\, guitarist\, spent 12 years in Bad Co\, was a member of Humble Pie for several years recording\, co-writing and producing the album Back on Track\, The Jones Gang\, ASAP and many other bands. \nBuy Now
URL:https://www.arcadalive.com/event/bad-co-legacy/
LOCATION:Arcada Theatre\, 105 E Main St\, St. Charles\, IL\, 60174\, United States
CATEGORIES:Blues,Rock Music,Rock Music>Classic Rock,Rock Music>Hard Rock
ATTACH;FMTTYPE=image/png:https://www.arcadalive.com/wp-content/uploads/sites/6/Bad-Company-Legacy-web.png
END:VEVENT
BEGIN:VEVENT
DTSTART;TZID=America/Chicago:20261004T170000
DTEND;TZID=America/Chicago:20261004T170000
DTSTAMP:20260424T042135
CREATED:20260129T213541Z
LAST-MODIFIED:20260129T213555Z
UID:10002614-1791133200-1791133200@www.arcadalive.com
SUMMARY:AFTER-SHOW MEET & GREET: LEONID & FRIENDS
DESCRIPTION:VIP M&G description: \n Meet & Greet is a wonderful opportunity for fans to meet and interact with Leonid & Friends. Quantity is limited at each show. Shortly after the concert\, attendees with a M&G wristband will be allowed to meet the band\, have a group photo taken\, and the opportunity to chat with band members and have merchandise or memorabilia signed. \nDoes NOT include admission to concert. Must have concert ticket to purchase Meet & Greet \nBuy Now
URL:https://www.arcadalive.com/event/after-show-meet-greet-leonid-friends-2/
LOCATION:Arcada Theatre\, 105 E Main St\, St. Charles\, IL\, 60174\, United States
CATEGORIES:Classic Rock,Early Rock,Rock Music,Rock Music>Classic Rock,VIP Experiences
ATTACH;FMTTYPE=image/png:https://www.arcadalive.com/wp-content/uploads/sites/6/Leonid-Meet-Greet-web.png
END:VEVENT
END:VCALENDAR