BEGIN:VCALENDAR
VERSION:2.0
PRODID:-//Arcada Theatre - ECPv6.15.20//NONSGML v1.0//EN
CALSCALE:GREGORIAN
METHOD:PUBLISH
X-WR-CALNAME:Arcada Theatre
X-ORIGINAL-URL:https://www.arcadalive.com
X-WR-CALDESC:Events for Arcada Theatre
REFRESH-INTERVAL;VALUE=DURATION:PT1H
X-Robots-Tag:noindex
X-PUBLISHED-TTL:PT1H
BEGIN:VTIMEZONE
TZID:America/Chicago
BEGIN:DAYLIGHT
TZOFFSETFROM:-0600
TZOFFSETTO:-0500
TZNAME:CDT
DTSTART:20250309T080000
END:DAYLIGHT
BEGIN:STANDARD
TZOFFSETFROM:-0500
TZOFFSETTO:-0600
TZNAME:CST
DTSTART:20251102T070000
END:STANDARD
BEGIN:DAYLIGHT
TZOFFSETFROM:-0600
TZOFFSETTO:-0500
TZNAME:CDT
DTSTART:20260308T080000
END:DAYLIGHT
BEGIN:STANDARD
TZOFFSETFROM:-0500
TZOFFSETTO:-0600
TZNAME:CST
DTSTART:20261101T070000
END:STANDARD
BEGIN:DAYLIGHT
TZOFFSETFROM:-0600
TZOFFSETTO:-0500
TZNAME:CDT
DTSTART:20270314T080000
END:DAYLIGHT
BEGIN:STANDARD
TZOFFSETFROM:-0500
TZOFFSETTO:-0600
TZNAME:CST
DTSTART:20271107T070000
END:STANDARD
END:VTIMEZONE
BEGIN:VEVENT
DTSTART;TZID=America/Chicago:20260424T200000
DTEND;TZID=America/Chicago:20260424T200000
DTSTAMP:20260424T045828
CREATED:20260226T153840Z
LAST-MODIFIED:20260227T151043Z
UID:10002895-1777060800-1777060800@www.arcadalive.com
SUMMARY:TOMMY'S ROCKTRIP featuring POWERHOUSE DRUMMER TOMMY CLUFETOS (BLACK SABBATH\, ALICE COOPER\, OZZY OSBOURNE\, TED NUGENT & MORE) with SPECIAL GUEST SABBATH - RECREATION OF BLACK SABBATH
DESCRIPTION:Tommy’s Rock Trip is a dynamic musical journey and heartfelt tribute spearheaded by drummer Tommy Clufetos\, renowned for his work with numerous rock legends. The show is a powerful celebration of heavy metal and hard rock history\, primarily paying homage to the iconic sounds of Black Sabbath and the solo career of frontman Ozzy Osbourne! Clufetos\, who has performed extensively with Osbourne’s solo band and was the final drummer for Black Sabbath’s farewell tour\, brings an insider’s perspective and high-energy performance to the stage. The setlist is a deep dive into the classic catalogs of these metal pioneers\, delivered with an authentic\, raw energy that resonates with dedicated fans. Beyond the core tribute to Sabbath and Ozzy\, Tommy’s Rock Trip expands its scope to honor a broader spectrum of rock royalty. The show often includes covers and nods to the theatrical shock-rock of Alice Cooper\, the industrial-metal fusion of Rob Zombie\, and the raw\, unbridled guitar rock of “Motor City Madman” Ted Nugent! \nSabbath will perform Black Sabbath’s greatest hits from the Ozzy Osbourne and Ronnie James Dio era. From iconic clothes to note-to-note precision\, Sabbath will transport you back with albums like Paranoid\, Sabotage\, and more with hits like “War Pigs”\, “Paranoid”\, “Iron Man”\, “Sweat Leaf” and more!! \nBuy Now
URL:https://www.arcadalive.com/event/tommys-rock-trip-featuring-powerhouse-drummer-tommy-clufetos-black-sabbath-alice-cooper-ozzy-osbourne-ted-nugent-more-with-special-guest-sabbath-recreation-of-black-sabbath/
LOCATION:Arcada Theatre\, 105 E Main St\, St. Charles\, IL\, 60174\, United States
CATEGORIES:Hard Rock,Heavy Metal
ATTACH;FMTTYPE=image/png:https://www.arcadalive.com/wp-content/uploads/sites/6/Tommys-Rock-Trip-1.png
END:VEVENT
BEGIN:VEVENT
DTSTART;TZID=America/Chicago:20260424T203000
DTEND;TZID=America/Chicago:20260424T203000
DTSTAMP:20260424T045828
CREATED:20260313T213830Z
LAST-MODIFIED:20260313T213840Z
UID:10003103-1777062600-1777062600@www.arcadalive.com
SUMMARY:STUDIO 64: Old School DJ Dance Party with DJ Kardiak
DESCRIPTION:Studio 64\, located on the 2nd Floor of the Arcada Theatre Complex\, is bringing New York’s Studio 54 vibe to St. Charles.  Join us in a lounge style setting complete with glittered walls\, floor to ceiling video screens and lots of disco balls!  It’s an Old School DJ Dance Party with a live DJ. There is NO COVER to attend.  Lite Bites and Cocktails are available for purchase.  Doors open at 8PM. No RSVP needed and seating and tables are first come first served.  The dance floor is\, of course\, OPEN! \n\nDJ Kardiak is a live performer known for blending old school jams and disco music. DJ Kardiak has brought their signature sound to clubs\, festivals\, and private events across Chicagoland. Their performances combine technical skill\, creativity\, and a deep love for disco!  Join us on the dance floor and relive the 70s again!  Song requests are welcomed! \n\n\n\n\n\n\n\n\n 
URL:https://www.arcadalive.com/event/studio-64-old-school-dj-dance-party-with-dj-kardiak-56/
LOCATION:Arcada Theatre\, 105 E Main St\, St. Charles\, IL\, 60174\, United States
CATEGORIES:Dance,Dance Floor,Electronic,Oldies/Classics,Pop,Rock Music,Studio 64
ATTACH;FMTTYPE=image/png:https://www.arcadalive.com/wp-content/uploads/sites/6/DJ-Kardiak-Graphic-830-start-web.png
END:VEVENT
BEGIN:VEVENT
DTSTART;TZID=America/Chicago:20260424T203000
DTEND;TZID=America/Chicago:20260424T203000
DTSTAMP:20260424T045828
CREATED:20260320T195139Z
LAST-MODIFIED:20260414T113125Z
UID:10003440-1777062600-1777062600@www.arcadalive.com
SUMMARY:THE LEGENDS STAGE IN THE ARCADA THEATRE: LIVE JAZZ\, BLUES & FUNK WITH JD & COMPANY
DESCRIPTION:Celebrate Jazz\, Blues and Funk with JD & Company on our Legends Stage in Rock ‘N Ravioli\, located in the lobby of the Arcada Theatre. Food ($25 Buffet including Honey Fried Chicken\, Pulled Pork\, Pizz-O\, Baked Beans\, Mini Burgers\, Garden Salad and Potato Salad AND our our Dinner Menu) and hand-crafted cocktails are available for purchase. There is no entertainment fee for this event. Doors open at 5:00PM  |  Show begins at 8:30PM. \nJD & Company is a quality quartet of like-minded musicians with over a century of combined experience. Writing and performing their own music\, the band’s hallmark is their ability to combine an assortment of rhythms and musical styles into one cohesive form. Mixing a unique blend of Samba\, Bossa Nova\, Jazz Waltz\, Swing and Funk. \nCLICK HERE to see menus. \nMake A Reservation
URL:https://www.arcadalive.com/event/the-legends-stage-in-the-arcada-theatre-live-jazz-blues-funk-with-jd-company/
LOCATION:Arcada Theatre\, 105 E Main St\, St. Charles\, IL\, 60174\, United States
CATEGORIES:Blues,Funk,Jazz,Pop
ATTACH;FMTTYPE=image/png:https://www.arcadalive.com/wp-content/uploads/sites/6/JD-Company-photo-generic.png
END:VEVENT
END:VCALENDAR