BEGIN:VCALENDAR
VERSION:2.0
PRODID:-//Arcada Theatre - ECPv6.15.20//NONSGML v1.0//EN
CALSCALE:GREGORIAN
METHOD:PUBLISH
X-ORIGINAL-URL:https://www.arcadalive.com
X-WR-CALDESC:Events for Arcada Theatre
REFRESH-INTERVAL;VALUE=DURATION:PT1H
X-Robots-Tag:noindex
X-PUBLISHED-TTL:PT1H
BEGIN:VTIMEZONE
TZID:America/Chicago
BEGIN:DAYLIGHT
TZOFFSETFROM:-0600
TZOFFSETTO:-0500
TZNAME:CDT
DTSTART:20240310T080000
END:DAYLIGHT
BEGIN:STANDARD
TZOFFSETFROM:-0500
TZOFFSETTO:-0600
TZNAME:CST
DTSTART:20241103T070000
END:STANDARD
BEGIN:DAYLIGHT
TZOFFSETFROM:-0600
TZOFFSETTO:-0500
TZNAME:CDT
DTSTART:20250309T080000
END:DAYLIGHT
BEGIN:STANDARD
TZOFFSETFROM:-0500
TZOFFSETTO:-0600
TZNAME:CST
DTSTART:20251102T070000
END:STANDARD
BEGIN:DAYLIGHT
TZOFFSETFROM:-0600
TZOFFSETTO:-0500
TZNAME:CDT
DTSTART:20260308T080000
END:DAYLIGHT
BEGIN:STANDARD
TZOFFSETFROM:-0500
TZOFFSETTO:-0600
TZNAME:CST
DTSTART:20261101T070000
END:STANDARD
END:VTIMEZONE
BEGIN:VEVENT
DTSTART;TZID=America/Chicago:20250821T120000
DTEND;TZID=America/Chicago:20250821T140000
DTSTAMP:20260424T032432
CREATED:20250418T210414Z
LAST-MODIFIED:20250804T200950Z
UID:10002175-1755777600-1755784800@www.arcadalive.com
SUMMARY:SOLD OUT!!! BEHIND THE SCENES OF THE ARCADA THEATRE AS IT TURNS 100: LUNCH & SHOW
DESCRIPTION:Experience the enchanting history of the Arcada Theatre with a captivating tour that takes you through its remarkable 100-year legacy. After immersing yourself in the rich stories and architectural beauty of this iconic venue\, indulge in a delicious lunch at Rock n Ravioli\, where you can savor exquisite Italian cuisine. This unique combination of culture and culinary delights promises an unforgettable day filled with nostalgia and flavor. \n12pm-2pm\n$25 per person\nLunch Includes: Chopped Salad\, Garlic Bread\, Rigatoni alla Vodka\, Ron’s Famous Meatballs\, Cannoli\, Coffee and Soft Drinks \nGratuity is included in price \nBuy Now
URL:https://www.arcadalive.com/event/behind-the-scenes-of-the-arcada-theatre-as-it-turns-100-lunch-show-on-sale-soon/
LOCATION:Arcada Theatre\, 105 E Main St\, St. Charles\, IL\, 60174\, United States
CATEGORIES:Culinary Events,Dinner,Featured
ATTACH;FMTTYPE=image/png:https://www.arcadalive.com/wp-content/uploads/sites/6/SOLD-OUT-Behind-The-Scenes-Tour.png
END:VEVENT
BEGIN:VEVENT
DTSTART;TZID=America/Chicago:20250821T193000
DTEND;TZID=America/Chicago:20250821T193000
DTSTAMP:20260424T032432
CREATED:20250723T180314Z
LAST-MODIFIED:20250723T180314Z
UID:10002307-1755804600-1755804600@www.arcadalive.com
SUMMARY:LEGENDS STAGE AT THE ARCADA THEATRE: LIVE JAZZ SHOW WITH THE A TRAIN JAZZ COMBO
DESCRIPTION:Celebrate Jazz music with The A Train Jazz Combo on our Legends Stage in Rock ‘N Ravioli\, located in the lobby of the Arcada Theatre. Food and hand-crafted cocktails are available for purchase. Happy Hour pricing available all night ($5 Beer | $6 Wine and Call Level Cocktails). This is no entertainment fee for this event. No RSVP required. Seating is first-come\, first-seated. Doors will open at 6:00PM and the show will begin at 7:30PM.\n  \nThe A Train Jazz Combo is made up of mostly high school students. They include: Charlie Bromley\, a sophomore at Schaumburg High School\, who plays drums; Braden Estanillo\, a sophomore at Oak Park River Forest High School who plays the stand-up bass; and Anthony Luzwick\, a freshman at Hoffman Estates High School\, who plays saxophone. All of these jazz musicians are active in their respective band programs. Members of the A Train are enjoying the chance to go beyond their high school ensembles\, and take their music out into the community. “Playing in the combo style is different\,” Anthony says. “It allows us to be more creative and explore our improvisational juices.” \n  \n 
URL:https://www.arcadalive.com/event/legends-stage-at-the-arcada-theatre-live-jazz-show-with-the-a-train-jazz-combo/
LOCATION:Arcada Theatre\, 105 E Main St\, St. Charles\, IL\, 60174\, United States
CATEGORIES:Jazz
ATTACH;FMTTYPE=image/png:https://www.arcadalive.com/wp-content/uploads/sites/6/Jazz-Blue-generic-Happy-Hour-v0Ty3o.png
END:VEVENT
END:VCALENDAR